BEGIN:VCALENDAR
PRODID:-//kirchenweb.ch gmbh//veranstaltungsausgabe v2.0//DE
VERSION:2.0
METHOD:PUBLISH
BEGIN:VEVENT
DTSTART:20261213T170000Z
DTEND:20261213T180000Z
LOCATION:Reformierte Kirche Derendingen\, Hauptstrasse 41\, 4552
  Derendingen
TRANSP:OPAQUE
SEQUENCE:0
UID:11240-veranstaltung@ref-wasseramt.ch
DTSTAMP:20260305T153729Z
DESCRIPTION:Kontakt: Präd. Heidi Zingg Knöpfli\n\nWeitere Infos:
  https://www.ref-wasseramt.ch/veranstaltung/11240
SUMMARY:Adventskonzert MG Derendingen
PRIORITY:5
X-MICROSOFT-CDO-IMPORTANCE:1
CLASS:PUBLIC
END:VEVENT
END:VCALENDAR
