BEGIN:VCALENDAR
PRODID:-//kirchenweb.ch gmbh//veranstaltungsausgabe v2.0//DE
VERSION:2.0
METHOD:PUBLISH
BEGIN:VEVENT
DTSTART:20260922T170000Z
DTEND:20260922T172000Z
LOCATION:Reformierte Kirche Zuchwil\, Bühlstrasse 4\, 4528 Zuchwil
TRANSP:OPAQUE
SEQUENCE:0
UID:11304-veranstaltung@ref-wasseramt.ch
DTSTAMP:20260324T084250Z
DESCRIPTION:Kontakt: web.zuchwil@ref-wasseramt.ch\n\nWeitere Infos:
  https://www.ref-wasseramt.ch/veranstaltung/11304
SUMMARY:Friedensgebet Zuchwil
PRIORITY:5
X-MICROSOFT-CDO-IMPORTANCE:1
CLASS:PUBLIC
END:VEVENT
END:VCALENDAR
