BEGIN:VCALENDAR
PRODID:-//kirchenweb.ch gmbh//veranstaltungsausgabe v2.0//DE
VERSION:2.0
METHOD:PUBLISH
BEGIN:VEVENT
DTSTART:20260508T060000Z
DTEND:20260508T160000Z
LOCATION:Reformierte Kirche Zuchwil\, Bühlstrasse 4\, 4528 Zuchwil
TRANSP:OPAQUE
SEQUENCE:0
UID:11338-veranstaltung@ref-wasseramt.ch
DTSTAMP:20260326T210616Z
DESCRIPTION:Kontakt: Marijana Petrovic\n\nWeitere Infos:
  https://www.ref-wasseramt.ch/veranstaltung/11338
SUMMARY:Externe Vermietung
PRIORITY:5
X-MICROSOFT-CDO-IMPORTANCE:1
CLASS:PUBLIC
END:VEVENT
END:VCALENDAR
