BEGIN:VCALENDAR
PRODID:-//kirchenweb.ch gmbh//veranstaltungsausgabe v2.0//DE
VERSION:2.0
METHOD:PUBLISH
BEGIN:VEVENT
DTSTART:20260506T080000Z
DTEND:20260506T090000Z
LOCATION:Parkplatz Zivilschutzanlage \, \,  Kriegstetten
TRANSP:OPAQUE
SEQUENCE:0
UID:11346-veranstaltung@ref-wasseramt.ch
DTSTAMP:20260409T070248Z
DESCRIPTION:In diesem Jahr dürfen wir uns der Reise der Landfrauen
  anschliessen. Das Reiseziel wird Nottwil sein mit Führung durchs
  Paraplegikerzentrum.\nTreffpunkt: Parkplatz Zivilschutzanlage in
  Kriegstetten \nAbfahrt: 10 Uhr\nRückkehr: ca.18.30 Uhr in Kriegstetten\n
 \nKontakt: Rosa Tirler\n\nWeitere Infos:
  https://www.ref-wasseramt.ch/veranstaltung/11346
SUMMARY:Frauengemeinschaft Subingen Vereinsreise
PRIORITY:5
X-MICROSOFT-CDO-IMPORTANCE:1
CLASS:PUBLIC
END:VEVENT
END:VCALENDAR
