BEGIN:VCALENDAR
PRODID:-//kirchenweb.ch gmbh//veranstaltungsausgabe v2.0//DE
VERSION:2.0
METHOD:PUBLISH
BEGIN:VEVENT
DTSTART:20261120T173000Z
DTEND:20261120T183000Z
LOCATION:Josefsheim Subingen\, \, 4553 Subingen
TRANSP:OPAQUE
SEQUENCE:0
UID:11349-veranstaltung@ref-wasseramt.ch
DTSTAMP:20260330T133928Z
DESCRIPTION:Erzählcafé\n\nDas ist eine gemütliche offene
  Gesprächsrunde zu einem ausgewählten Frauenthema mit Rosa Tirler.\n\n
 \nKontakt: Rosa Tirler\n\nWeitere Infos:
  https://www.ref-wasseramt.ch/veranstaltung/11349
SUMMARY:Frauengemeinschaft Subingen
PRIORITY:5
X-MICROSOFT-CDO-IMPORTANCE:1
CLASS:PUBLIC
END:VEVENT
END:VCALENDAR
