BEGIN:VCALENDAR
PRODID:-//kirchenweb.ch gmbh//veranstaltungsausgabe v2.0//DE
VERSION:2.0
METHOD:PUBLISH
BEGIN:VEVENT
DTSTART:20261207T180000Z
DTEND:20261207T190000Z
LOCATION:Josefsheim Subingen\, \, 4553 Subingen
TRANSP:OPAQUE
SEQUENCE:0
UID:11350-veranstaltung@ref-wasseramt.ch
DTSTAMP:20260330T134120Z
DESCRIPTION:Adventsfeier\n\nGemeinsam stimmen wir uns auf eine besinnliche
  Advetnszeit ein.\n\n\nKontakt: Rosa Tirler\n\nWeitere Infos:
  https://www.ref-wasseramt.ch/veranstaltung/11350
SUMMARY:Frauengemeinschaft Subingen
PRIORITY:5
X-MICROSOFT-CDO-IMPORTANCE:1
CLASS:PUBLIC
END:VEVENT
END:VCALENDAR
