BEGIN:VCALENDAR
PRODID:-//kirchenweb.ch gmbh//veranstaltungsausgabe v2.0//DE
VERSION:2.0
METHOD:PUBLISH
BEGIN:VEVENT
DTSTART:20260515T153000Z
DTEND:20260515T173000Z
LOCATION:Reformierte Kirche Derendingen\, Hauptstrasse 41\, 4552
  Derendingen
TRANSP:OPAQUE
SEQUENCE:0
UID:11355-veranstaltung@ref-wasseramt.ch
DTSTAMP:20260401T173742Z
DESCRIPTION:Kontakt: Thomas Kopp\n\nWeitere Infos:
  https://www.ref-wasseramt.ch/veranstaltung/11355
SUMMARY:AG Denkraum
PRIORITY:5
X-MICROSOFT-CDO-IMPORTANCE:1
CLASS:PUBLIC
END:VEVENT
END:VCALENDAR
