BEGIN:VCALENDAR
PRODID:-//kirchenweb.ch gmbh//veranstaltungsausgabe v2.0//DE
VERSION:2.0
METHOD:PUBLISH
BEGIN:VEVENT
DTSTART:20260426T103000Z
DTEND:20260426T170000Z
LOCATION:Ref. Kirche Kriegstetten\, Dornackerstrasse 2\, 4566 Kriegstetten
TRANSP:OPAQUE
SEQUENCE:0
UID:11377-veranstaltung@ref-wasseramt.ch
DTSTAMP:20260421T152741Z
DESCRIPTION:Kontakt: SD Christine Kappeler\n\nWeitere Infos:
  https://www.ref-wasseramt.ch/veranstaltung/11377
SUMMARY:Fantasia
PRIORITY:5
X-MICROSOFT-CDO-IMPORTANCE:1
CLASS:PUBLIC
END:VEVENT
END:VCALENDAR
