BEGIN:VCALENDAR
PRODID:-//kirchenweb.ch gmbh//veranstaltungsausgabe v2.0//DE
VERSION:2.0
METHOD:PUBLISH
BEGIN:VEVENT
DTSTART:20260816T080000Z
DTEND:20260816T090000Z
LOCATION:Katholische Kirche Zuchwil\, Hauptstrasse\, 4528 Zuchwil
TRANSP:OPAQUE
SEQUENCE:0
UID:11395-veranstaltung@ref-wasseramt.ch
DTSTAMP:20260424T080640Z
DESCRIPTION:Kontakt: Pfr. Simon Taverna\nPfr. Pascal Eng\n\nWeitere Infos:
  https://www.ref-wasseramt.ch/veranstaltung/11395
SUMMARY:Ökum. Schulstart Gottesdienst Zuchwil
PRIORITY:5
X-MICROSOFT-CDO-IMPORTANCE:1
CLASS:PUBLIC
END:VEVENT
END:VCALENDAR
