BEGIN:VCALENDAR
PRODID:-//kirchenweb.ch gmbh//veranstaltungsausgabe v2.0//DE
VERSION:2.0
METHOD:PUBLISH
BEGIN:VEVENT
DTSTART:20260823T080000Z
DTEND:20260823T090000Z
LOCATION:Reformierte Kirche Zuchwil\, Bühlstrasse 4\, 4528 Zuchwil
TRANSP:OPAQUE
SEQUENCE:0
UID:11396-veranstaltung@ref-wasseramt.ch
DTSTAMP:20260424T081221Z
DESCRIPTION:Kontakt: Pfr. Simon Taverna\n\nWeitere Infos:
  https://www.ref-wasseramt.ch/veranstaltung/11396
SUMMARY:Gottesdienst Zuchwil
PRIORITY:5
X-MICROSOFT-CDO-IMPORTANCE:1
CLASS:PUBLIC
END:VEVENT
END:VCALENDAR
