BEGIN:VCALENDAR
PRODID:-//kirchenweb.ch gmbh//veranstaltungsausgabe v2.0//DE
VERSION:2.0
METHOD:PUBLISH
BEGIN:VEVENT
DTSTART:20260920T080000Z
DTEND:20260920T090000Z
LOCATION:Reformierte Kirche Zuchwil\, Bühlstrasse 4\, 4528 Zuchwil
TRANSP:OPAQUE
SEQUENCE:0
UID:11400-veranstaltung@ref-wasseramt.ch
DTSTAMP:20260424T083234Z
DESCRIPTION:Kontakt: Pfr. Simon Taverna und \nPfr. Pascal Eng\n\nWeitere
  Infos: https://www.ref-wasseramt.ch/veranstaltung/11400
SUMMARY:Ökum. Bettagsgottesdienst Zuchwil
PRIORITY:5
X-MICROSOFT-CDO-IMPORTANCE:1
CLASS:PUBLIC
END:VEVENT
END:VCALENDAR
