BEGIN:VCALENDAR
PRODID:-//kirchenweb.ch gmbh//veranstaltungsausgabe v2.0//DE
VERSION:2.0
METHOD:PUBLISH
BEGIN:VEVENT
DTSTART:20261031T160000Z
DTEND:20261031T170000Z
LOCATION:Reformierte Kirche Zuchwil\, Bühlstrasse 4\, 4528 Zuchwil
TRANSP:OPAQUE
SEQUENCE:0
UID:11402-veranstaltung@ref-wasseramt.ch
DTSTAMP:20260424T084145Z
DESCRIPTION:Kontakt: Pfr. Simon Taverna\n\nWeitere Infos:
  https://www.ref-wasseramt.ch/veranstaltung/11402
SUMMARY:Gottesdienst zum Reformationssonntag Zuchwil
PRIORITY:5
X-MICROSOFT-CDO-IMPORTANCE:1
CLASS:PUBLIC
END:VEVENT
END:VCALENDAR
