BEGIN:VCALENDAR
PRODID:-//kirchenweb.ch gmbh//veranstaltungsausgabe v2.0//DE
VERSION:2.0
METHOD:PUBLISH
BEGIN:VEVENT
DTSTART:20260603T170000Z
DTEND:20260603T200000Z
LOCATION:Saal \, \,
TRANSP:OPAQUE
SEQUENCE:0
UID:8508-veranstaltung@ref-wasseramt.ch
DTSTAMP:20260227T195528Z
DESCRIPTION:Kontakt: Fritz Suter\n\nWeitere Infos:
  https://www.ref-wasseramt.ch/veranstaltung/8508
SUMMARY:Samariterverein
PRIORITY:5
X-MICROSOFT-CDO-IMPORTANCE:1
CLASS:PUBLIC
END:VEVENT
END:VCALENDAR
