BEGIN:VCALENDAR
PRODID:-//kirchenweb.ch gmbh//veranstaltungsausgabe v2.0//DE
VERSION:2.0
METHOD:PUBLISH
BEGIN:VEVENT
DTSTART:20260510T080000Z
DTEND:20260510T093000Z
LOCATION:KGH Aeschi\, Bolkenstrasse 24\, 4556 Aeschi
TRANSP:OPAQUE
SEQUENCE:0
UID:8855-veranstaltung@ref-wasseramt.ch
DTSTAMP:20260330T135553Z
DESCRIPTION:Kontakt: SD Rahel von Allmen\n\nWeitere Infos:
  https://www.ref-wasseramt.ch/veranstaltung/8855
SUMMARY:Konfirmationsgottesdienst (Gruppe 1) Aeschi
PRIORITY:5
X-MICROSOFT-CDO-IMPORTANCE:1
CLASS:PUBLIC
END:VEVENT
END:VCALENDAR
