BEGIN:VCALENDAR
PRODID:-//kirchenweb.ch gmbh//veranstaltungsausgabe v2.0//DE
VERSION:2.0
METHOD:PUBLISH
BEGIN:VEVENT
DTSTART;VALUE=DATE:20260607
DTEND;VALUE=DATE:20260608
LOCATION:Kirchgemeindehaus Aeschi\, Bolkenstrasse\, 4556 Aeschi
TRANSP:OPAQUE
SEQUENCE:0
UID:9239-veranstaltung@ref-wasseramt.ch
DTSTAMP:20250527T200026Z
DESCRIPTION:Kontakt: Maya Aeschi\n\nWeitere Infos:
  https://www.ref-wasseramt.ch/veranstaltung/9239
SUMMARY:Fischessen
PRIORITY:5
X-MICROSOFT-CDO-IMPORTANCE:1
CLASS:PUBLIC
END:VEVENT
END:VCALENDAR
