BEGIN:VCALENDAR
PRODID:-//kirchenweb.ch gmbh//veranstaltungsausgabe v2.0//DE
VERSION:2.0
METHOD:PUBLISH
BEGIN:VEVENT
DTSTART:20260426T160000Z
DTEND:20260426T170000Z
LOCATION:Reformierte Kirche Derendingen\, Hauptstrasse 41\, 4552
  Derendingen
TRANSP:OPAQUE
SEQUENCE:0
UID:9876-veranstaltung@ref-wasseramt.ch
DTSTAMP:20260416T120221Z
DESCRIPTION:Film Sternenberg\nZu Beginn Apéro mit Interview Sara
  Capretti\, offeriert von DingKult\n\nKontakt: Pfr. Samuel Stucki /
  DingKult\n\nWeitere Infos:
  https://www.ref-wasseramt.ch/veranstaltung/9876
SUMMARY:Film in der Kirche Derendingen
PRIORITY:5
X-MICROSOFT-CDO-IMPORTANCE:1
CLASS:PUBLIC
END:VEVENT
END:VCALENDAR
