BEGIN:VCALENDAR
PRODID:-//kirchenweb.ch gmbh//veranstaltungsausgabe v2.0//DE
VERSION:2.0
METHOD:PUBLISH
BEGIN:VEVENT
DTSTART:20260524T083000Z
DTEND:20260524T093000Z
LOCATION:Reformierte Kirche Derendingen\, Hauptstrasse 41\, 4552
  Derendingen
TRANSP:OPAQUE
SEQUENCE:0
UID:9899-veranstaltung@ref-wasseramt.ch
DTSTAMP:20260312T192030Z
DESCRIPTION:im Anschluss Apéro und Mittagessen\n\nKontakt: Pfr. Samuel
  Stucki\n\n\nWeitere Infos:
  https://www.ref-wasseramt.ch/veranstaltung/9899
SUMMARY:Pfingstgottesdienst Kirchgemeinde Wasseramt
PRIORITY:5
X-MICROSOFT-CDO-IMPORTANCE:1
CLASS:PUBLIC
END:VEVENT
END:VCALENDAR
