BEGIN:VCALENDAR
PRODID:-//kirchenweb.ch gmbh//veranstaltungsausgabe v2.0//DE
VERSION:2.0
METHOD:PUBLISH
BEGIN:VEVENT
DTSTART:20260607T080000Z
DTEND:20260607T093000Z
LOCATION:Reformierte Kirche Luterbach\, Schachenstrasse 2\, 4542 Luterbach
TRANSP:OPAQUE
SEQUENCE:0
UID:9998-veranstaltung@ref-wasseramt.ch
DTSTAMP:20251113T091129Z
DESCRIPTION:Kontakt: SD Rebekka Matter\nSD i.A Carsten Knigge\n\nWeitere
  Infos: https://www.ref-wasseramt.ch/veranstaltung/9998
SUMMARY:Konfirmationsgottesdienst Luterbach-Deitingen
PRIORITY:5
X-MICROSOFT-CDO-IMPORTANCE:1
CLASS:PUBLIC
END:VEVENT
END:VCALENDAR
